BEGIN:VCALENDAR
VERSION:2.0
PRODID:-//85.215.231.133//NONSGML kigkonsult.se iCalcreator 2.20//
CALSCALE:GREGORIAN
METHOD:PUBLISH
X-WR-TIMEZONE:Europe/Berlin
BEGIN:VEVENT
UID:event408@SV Fortuna ´50 Neubrandenburg
DTSTAMP:20260424T194017Z
CATEGORIES:Punktspiele
DESCRIPTION:Auswärtsspiel 1. Frauen - Qualifikationsrunde zur 3. Liga\nKate
 gorie: Punktspiele\nICS-Link: https://www.svfortuna50.de/index.php?option=
 com_jem&view=event&id=408:auswaertsspiel-1-frauen-qualifikationsrunde-zur-
 3-liga\n
DTSTART;TZID=Europe/Berlin:20260530T191500
DTEND;TZID=Europe/Berlin:20260530T210000
LOCATION:SH Hermann-Billung-Gymnasium\,Hermann-Billung-Straße 1\,29225 Cell
 e\,Germany
SUMMARY:Auswärtsspiel 1. Frauen - Qualifikationsrunde zur 3. Liga
URL:https://www.svfortuna50.de/index.php?option=com_jem&view=event&id=408:a
 uswaertsspiel-1-frauen-qualifikationsrunde-zur-3-liga
END:VEVENT
END:VCALENDAR
