BEGIN:VCALENDAR
VERSION:2.0
PRODID:-//85.215.231.133//NONSGML kigkonsult.se iCalcreator 2.20//
CALSCALE:GREGORIAN
METHOD:PUBLISH
X-WR-TIMEZONE:Europe/Berlin
BEGIN:VEVENT
UID:event406@SV Fortuna ´50 Neubrandenburg
DTSTAMP:20260424T172054Z
CATEGORIES:Punktspiele
DESCRIPTION:Heimspiel 1. Frauen - Qualifikationsrunde zur 3. Liga\nKategori
 e: Punktspiele\nICS-Link: https://www.svfortuna50.de/index.php?option=com_
 jem&view=event&id=406:heimspiel-1-frauen-qualifikationsrunde-zur-3-liga\n
DTSTART;TZID=Europe/Berlin:20260606T163000
DTEND;TZID=Europe/Berlin:20260606T180000
LOCATION:Webasto Arena\,Binsenwerderstr. 2\,17033 Neubrandenburg
SUMMARY:Heimspiel 1. Frauen - Qualifikationsrunde zur 3. Liga
URL:https://www.svfortuna50.de/index.php?option=com_jem&view=event&id=406:h
 eimspiel-1-frauen-qualifikationsrunde-zur-3-liga
END:VEVENT
END:VCALENDAR
