BEGIN:VCALENDAR
VERSION:2.0
PRODID:-//85.215.231.133//NONSGML kigkonsult.se iCalcreator 2.20//
CALSCALE:GREGORIAN
METHOD:PUBLISH
X-WR-TIMEZONE:Europe/Berlin
BEGIN:VEVENT
UID:event312@SV Fortuna ´50 Neubrandenburg
DTSTAMP:20260424T155939Z
CATEGORIES:Punktspiele
DESCRIPTION:Heimspiel männliche B-Jugend\nKategorie: Punktspiele\nICS-Link:
  https://www.svfortuna50.de/index.php?option=com_jem&view=event&id=312:hei
 mspiel-maennliche-b-jugend\n
DTSTART;TZID=Europe/Berlin:20231007T160000
DTEND;TZID=Europe/Berlin:20231007T173000
LOCATION:Webasto Arena\,Binsenwerderstr. 2\,17033 Neubrandenburg
SUMMARY:Heimspiel männliche B-Jugend
URL:https://www.svfortuna50.de/index.php?option=com_jem&view=event&id=312:h
 eimspiel-maennliche-b-jugend
END:VEVENT
END:VCALENDAR
